BEGIN:VCALENDAR
VERSION:2.0
PRODID:-//CoeaStV Elisabethina - ECPv6.2.8//NONSGML v1.0//EN
CALSCALE:GREGORIAN
METHOD:PUBLISH
X-ORIGINAL-URL:https://www.elisabethina.at
X-WR-CALDESC:Events for CoeaStV Elisabethina
REFRESH-INTERVAL;VALUE=DURATION:PT1H
X-Robots-Tag:noindex
X-PUBLISHED-TTL:PT1H
BEGIN:VTIMEZONE
TZID:Europe/Vienna
BEGIN:DAYLIGHT
TZOFFSETFROM:+0100
TZOFFSETTO:+0200
TZNAME:CEST
DTSTART:20260329T010000
END:DAYLIGHT
BEGIN:STANDARD
TZOFFSETFROM:+0200
TZOFFSETTO:+0100
TZNAME:CET
DTSTART:20261025T010000
END:STANDARD
END:VTIMEZONE
BEGIN:VEVENT
DTSTART;TZID=Europe/Vienna:20260505T183000
DTEND;TZID=Europe/Vienna:20260505T183000
DTSTAMP:20260420T195332
CREATED:20260304T194531Z
LAST-MODIFIED:20260304T194531Z
UID:4072-1778005800-1778005800@www.elisabethina.at
SUMMARY:DC anschl. HDC *\, off
DESCRIPTION:TO lt. GO
URL:https://www.elisabethina.at/event/dc-anschl-hdc-off/
LOCATION:Auf der Bude\, Blechturmgasse 20\, 1040 Wien\, Austria
END:VEVENT
BEGIN:VEVENT
DTSTART;TZID=Europe/Vienna:20260527T190000
DTEND;TZID=Europe/Vienna:20260527T190000
DTSTAMP:20260420T195332
CREATED:20260304T194651Z
LAST-MODIFIED:20260304T194838Z
UID:4074-1779908400-1779908400@www.elisabethina.at
SUMMARY:AC: Was hält uns psychisch gesund? off.
DESCRIPTION:c.t. \nPsychotherapeutische Perspektiven mit \nMag. Barbara Haid\, MSC v/o Pauline (Ve!) \nPräsidentin des Österreichischen Bundesverbandes für Psychotherapie \ngem. mit. C.Ö.St.V Arcadia Wien
URL:https://www.elisabethina.at/event/ac-was-halt-uns-psychisch-gesund-off/
LOCATION:C.Ö.St.V Arcadia Wien\, Lichtenfelsgasse 1\, Wien\, 1010\, Austria
END:VEVENT
BEGIN:VEVENT
DTSTART;TZID=Europe/Vienna:20260527T193000
DTEND;TZID=Europe/Vienna:20260527T193000
DTSTAMP:20260420T195332
CREATED:20260304T194740Z
LAST-MODIFIED:20260304T194740Z
UID:4076-1779910200-1779910200@www.elisabethina.at
SUMMARY:Maibowlenkreuzkneipe\, off.
DESCRIPTION:c.t. \ngem. mit K.Ö.L. Leopoldina
URL:https://www.elisabethina.at/event/maibowlenkreuzkneipe-off/
LOCATION:Leopoldina\, Hoyosgasse 2\, Wien\, 1040\, Austria
END:VEVENT
END:VCALENDAR