BEGIN:VCALENDAR
VERSION:2.0
PRODID:-//CoeaStV Elisabethina - ECPv6.2.8//NONSGML v1.0//EN
CALSCALE:GREGORIAN
METHOD:PUBLISH
X-ORIGINAL-URL:https://www.elisabethina.at
X-WR-CALDESC:Events for CoeaStV Elisabethina
REFRESH-INTERVAL;VALUE=DURATION:PT1H
X-Robots-Tag:noindex
X-PUBLISHED-TTL:PT1H
BEGIN:VTIMEZONE
TZID:Europe/Vienna
BEGIN:DAYLIGHT
TZOFFSETFROM:+0100
TZOFFSETTO:+0200
TZNAME:CEST
DTSTART:20260329T010000
END:DAYLIGHT
BEGIN:STANDARD
TZOFFSETFROM:+0200
TZOFFSETTO:+0100
TZNAME:CET
DTSTART:20261025T010000
END:STANDARD
END:VTIMEZONE
BEGIN:VEVENT
DTSTART;TZID=Europe/Vienna:20260304T183000
DTEND;TZID=Europe/Vienna:20260304T183000
DTSTAMP:20260420T194940
CREATED:20260304T193858Z
LAST-MODIFIED:20260304T193858Z
UID:4062-1772649000-1772649000@www.elisabethina.at
SUMMARY:DC *\, off
DESCRIPTION:TO lt. GO \nAnschließend Barabend mit Bockbier ab 20:00
URL:https://www.elisabethina.at/event/dc-off/
LOCATION:Auf der Bude\, Blechturmgasse 20\, 1040 Wien\, Austria
END:VEVENT
BEGIN:VEVENT
DTSTART;TZID=Europe/Vienna:20260311T183000
DTEND;TZID=Europe/Vienna:20260311T183000
DTSTAMP:20260420T194940
CREATED:20260304T193730Z
LAST-MODIFIED:20260304T193730Z
UID:4057-1773253800-1773253800@www.elisabethina.at
SUMMARY:Antrittsmesse s.t.
DESCRIPTION:off. \nplen. col
URL:https://www.elisabethina.at/event/antrittsmesse-s-t/
LOCATION:St. Florian\, Wiedner Hauptstr. 97\, Wien\, 1050\, Austria
END:VEVENT
BEGIN:VEVENT
DTSTART;TZID=Europe/Vienna:20260314T193000
DTEND;TZID=Europe/Vienna:20260314T193000
DTSTAMP:20260420T194940
CREATED:20260304T193817Z
LAST-MODIFIED:20260304T193817Z
UID:4060-1773516600-1773516600@www.elisabethina.at
SUMMARY:Antrittskneipe off.
DESCRIPTION:
URL:https://www.elisabethina.at/event/antrittskneipe-off/
LOCATION:Auf der Bude\, Blechturmgasse 20\, 1040 Wien\, Austria
END:VEVENT
BEGIN:VEVENT
DTSTART;TZID=Europe/Vienna:20260328T080000
DTEND;TZID=Europe/Vienna:20260328T170000
DTSTAMP:20260420T194940
CREATED:20260304T193927Z
LAST-MODIFIED:20260304T193927Z
UID:4064-1774684800-1774717200@www.elisabethina.at
SUMMARY:VCS VV
DESCRIPTION:gesonderte Aussendung
URL:https://www.elisabethina.at/event/vcs-vv/
END:VEVENT
END:VCALENDAR