BEGIN:VCALENDAR
VERSION:2.0
PRODID:-//CoeaStV Elisabethina - ECPv6.2.8//NONSGML v1.0//EN
CALSCALE:GREGORIAN
METHOD:PUBLISH
X-WR-CALNAME:CoeaStV Elisabethina
X-ORIGINAL-URL:https://www.elisabethina.at
X-WR-CALDESC:Events for CoeaStV Elisabethina
REFRESH-INTERVAL;VALUE=DURATION:PT1H
X-Robots-Tag:noindex
X-PUBLISHED-TTL:PT1H
BEGIN:VTIMEZONE
TZID:Europe/Vienna
BEGIN:DAYLIGHT
TZOFFSETFROM:+0100
TZOFFSETTO:+0200
TZNAME:CEST
DTSTART:20250330T010000
END:DAYLIGHT
BEGIN:STANDARD
TZOFFSETFROM:+0200
TZOFFSETTO:+0100
TZNAME:CET
DTSTART:20251026T010000
END:STANDARD
END:VTIMEZONE
BEGIN:VEVENT
DTSTART;TZID=Europe/Vienna:20251127T180000
DTEND;TZID=Europe/Vienna:20251127T180000
DTSTAMP:20260421T030104
CREATED:20250926T174447Z
LAST-MODIFIED:20250926T174447Z
UID:4046-1764266400-1764266400@www.elisabethina.at
SUMMARY:HDC *
DESCRIPTION:s.t.
URL:https://www.elisabethina.at/event/hdc-4/
LOCATION:Auf der Bude\, Blechturmgasse 20\, 1040 Wien\, Austria
END:VEVENT
END:VCALENDAR