BEGIN:VCALENDAR
VERSION:2.0
PRODID:-//CoeaStV Elisabethina - ECPv6.2.8//NONSGML v1.0//EN
CALSCALE:GREGORIAN
METHOD:PUBLISH
X-WR-CALNAME:CoeaStV Elisabethina
X-ORIGINAL-URL:https://www.elisabethina.at
X-WR-CALDESC:Events for CoeaStV Elisabethina
REFRESH-INTERVAL;VALUE=DURATION:PT1H
X-Robots-Tag:noindex
X-PUBLISHED-TTL:PT1H
BEGIN:VTIMEZONE
TZID:Europe/Vienna
BEGIN:DAYLIGHT
TZOFFSETFROM:+0100
TZOFFSETTO:+0200
TZNAME:CEST
DTSTART:20250330T010000
END:DAYLIGHT
BEGIN:STANDARD
TZOFFSETFROM:+0200
TZOFFSETTO:+0100
TZNAME:CET
DTSTART:20251026T010000
END:STANDARD
END:VTIMEZONE
BEGIN:VEVENT
DTSTART;TZID=Europe/Vienna:20251018T193000
DTEND;TZID=Europe/Vienna:20251018T193000
DTSTAMP:20260421T042457
CREATED:20250926T174223Z
LAST-MODIFIED:20250926T174223Z
UID:4040-1760815800-1760815800@www.elisabethina.at
SUMMARY:VCS-Übergabekneipe
DESCRIPTION:c.t.
URL:https://www.elisabethina.at/event/vcs-ubergabekneipe/
LOCATION:C.Ö.St.V Arcadia Wien\, Lichtenfelsgasse 1\, Wien\, 1010\, Austria
END:VEVENT
END:VCALENDAR